BEGIN:VCALENDAR
VERSION:2.0
PRODID:-//Telerik Inc.//NONSGML RadScheduler//EN
METHOD:PUBLISH
BEGIN:VEVENT
DTSTART:20230722T150000Z
DTEND:20230722T170000Z
UID:20231030T202516Z-
DTSTAMP:20231030T202516Z
LOCATION:   
SUMMARY:Doorbelling 
DESCRIPTION:
END:VEVENT
END:VCALENDAR
