BEGIN:VCALENDAR
VERSION:2.0
PRODID:-//Telerik Inc.//NONSGML RadScheduler//EN
METHOD:PUBLISH
BEGIN:VEVENT
DTSTART:20230708T150000Z
DTEND:20230708T170000Z
UID:20231030T202517Z-
DTSTAMP:20231030T202517Z
LOCATION:   
SUMMARY:Doorbelling @ Bush Prarie
DESCRIPTION:
END:VEVENT
END:VCALENDAR
