BEGIN:VCALENDAR
VERSION:2.0
PRODID:-//Telerik Inc.//NONSGML RadScheduler//EN
METHOD:PUBLISH
BEGIN:VEVENT
DTSTART:20231024T203000Z
DTEND:20231024T213000Z
UID:20231030T202434Z-
DTSTAMP:20231030T202434Z
LOCATION:   
SUMMARY:Sign-Waving
DESCRIPTION:Sign Wave Tuesday, October 24: 4:30 to 6 p.m.,&nbsp;4th Ave Bridge (Olympia)\nSign up here
END:VEVENT
END:VCALENDAR
