BEGIN:VCALENDAR
VERSION:2.0
PRODID:-//Telerik Inc.//NONSGML RadScheduler//EN
METHOD:PUBLISH
BEGIN:VEVENT
DTSTART:20230428T213000Z
DTEND:20230428T230000Z
UID:20231030T202519Z-
DTSTAMP:20231030T202519Z
LOCATION:5757 Littlerock Rd SW Tumwater WA 98512
SUMMARY:Campaign Kickoff Celebration
DESCRIPTION:Join us for a campaign kickoff celebration in support of Rose Gundersen, who is running for the Port of Olympia Commission in District 4.&nbsp;\nWe will have wonderful food from the ASHHO Community Cultural Center, a photo booth, and a fun lineup of local speakers you know!
END:VEVENT
END:VCALENDAR
