BEGIN:VCALENDAR
VERSION:2.0
PRODID:-//Telerik Inc.//NONSGML RadScheduler//EN
METHOD:PUBLISH
BEGIN:VEVENT
DTSTART:20231107T203000Z
DTEND:20231107T220000Z
UID:20231030T202353Z-
DTSTAMP:20231030T202353Z
LOCATION:   
SUMMARY:Sign-Waving
DESCRIPTION:Sign-Waving:&nbsp;Tuesday, November 7,&nbsp;4:30 to 6 p.m.: Plum and Union (Olympia)\nSign Up Here
END:VEVENT
END:VCALENDAR
