BEGIN:VCALENDAR
VERSION:2.0
PRODID:-//Telerik Inc.//NONSGML RadScheduler//EN
METHOD:PUBLISH
BEGIN:VEVENT
DTSTART:20231026T203000Z
DTEND:20231026T220000Z
UID:20231030T202434Z-
DTSTAMP:20231030T202434Z
LOCATION:   
SUMMARY:Sign-Waving
DESCRIPTION:Sign Wave:&nbsp;Thursday, October 26,&nbsp;4:30 to 6 p.m.:&nbsp;College Street &amp; Yelm Highway (Lacey)\nSign Up Here
END:VEVENT
END:VCALENDAR
