BEGIN:VCALENDAR
VERSION:2.0
PRODID:-//Telerik Inc.//NONSGML RadScheduler//EN
METHOD:PUBLISH
BEGIN:VEVENT
DTSTART:20230629T210000Z
DTEND:20230629T230000Z
UID:20231030T202517Z-
DTSTAMP:20231030T202517Z
LOCATION:111 Market St. NE Olympia WA 98501
SUMMARY:Panowicz & Goularte hosting "Meet Rose for Port" at Mercato
DESCRIPTION:\n\n    \n        \n            \n            Rob &amp; Linda Panowicz and Ruthann Goularte are excited to invite you to attend a Meet the Candidate Event for their friend Rose Chiu Gundersen, Port of Olympia District #4 Commissioner Candidate.\n            We hope you'll join us.\n            Thursday, June 29, 2023\n            5 to 7 p.m.\n            Mercato Ristorante - Wine Room\n            111 Market Street NE\n            Olympia, WA 98501\n            Light hors d'oeuvres and house wines will be served.\n             Please RSVP by clicking the link below, or scanning the QR code on the flyer!\n            \n        \n    \n\n
END:VEVENT
END:VCALENDAR
