BEGIN:VCALENDAR
VERSION:2.0
PRODID:-//Telerik Inc.//NONSGML RadScheduler//EN
METHOD:PUBLISH
BEGIN:VEVENT
DTSTART:20231030T203000Z
DTEND:20231030T220000Z
UID:20231030T202353Z-
DTSTAMP:20231030T202353Z
LOCATION:   
SUMMARY:Sign-Waving
DESCRIPTION:Sign Wave: Monday, October 30,&nbsp;4:30 to 6 p.m.:&nbsp;Trosper &amp; Littlerock (Tumwater)\nSign Up Here
END:VEVENT
END:VCALENDAR
