BEGIN:VCALENDAR
VERSION:2.0
PRODID:-//Telerik Inc.//NONSGML RadScheduler//EN
METHOD:PUBLISH
BEGIN:VEVENT
DTSTART:20231102T203000Z
DTEND:20231102T220000Z
UID:20231030T202352Z-
DTSTAMP:20231030T202352Z
LOCATION:   
SUMMARY:Sign-Waving
DESCRIPTION:Sign-Waving:&nbsp;Thursday, November 2,&nbsp;4:30 to 6 p.m.:&nbsp;Martin Way &amp; Marvin Road (Lacey)\nSign Up Here
END:VEVENT
END:VCALENDAR
